BEGIN:VCALENDAR
VERSION:2.0
PRODID:icalendar-ruby
CALSCALE:GREGORIAN
METHOD:PUBLISH
BEGIN:VTIMEZONE
TZID:Australia/Sydney
BEGIN:DAYLIGHT
DTSTART:20201004T030000
TZOFFSETFROM:+1000
TZOFFSETTO:+1100
RRULE:FREQ=YEARLY;BYDAY=1SU;BYMONTH=10
TZNAME:AEDT
END:DAYLIGHT
BEGIN:STANDARD
DTSTART:20210404T020000
TZOFFSETFROM:+1100
TZOFFSETTO:+1000
RRULE:FREQ=YEARLY;BYDAY=1SU;BYMONTH=4
TZNAME:AEST
END:STANDARD
END:VTIMEZONE
BEGIN:VEVENT
DTSTAMP:20210225T172201Z
UID:inspection_933256
DTSTART;TZID=Australia/Sydney:20210227T121000
DTEND;TZID=Australia/Sydney:20210227T123000
CLASS:PUBLIC
CREATED:20210224T125842
DESCRIPTION: 
LAST-MODIFIED:20210224T125920
LOCATION:1 Yimbala Street\, RYDALMERE NSW 2116\, Australia
SUMMARY:1 Yimbala Street\,  Inspection
URL:http://www.estre.com.au/
END:VEVENT
END:VCALENDAR
